BEGIN:VCALENDAR
VERSION:2.0
PRODID:-//Tukios.com/
BEGIN:VEVENT
UID:067e7adb-5268-482a-aee7-c0dbb53bfc39@www.williamsonmemorial.com
DTSTAMP:20260420T054843Z
DTSTART:20260423T210000Z
DTEND:20260424T000000Z
SUMMARY:Visitation
DESCRIPTION:
URL:https://www.williamsonmemorial.com/obituaries/chase-hartung
LOCATION: 9100 Crockett Rd  Brentwood TN 37027
GEO:35.9784239;-86.7697206
END:VEVENT
END:VCALENDAR