BEGIN:VCALENDAR
VERSION:2.0
PRODID:-//Tukios.com/
BEGIN:VEVENT
UID:7d784ad0-03e8-4b62-bd62-61b61ff05bc6@www.williamsonmemorial.com
DTSTAMP:20260420T054843Z
DTSTART:20260424T160000Z
DTEND:20260424T170000Z
SUMMARY:Mass
DESCRIPTION:
URL:https://www.williamsonmemorial.com/obituaries/chase-hartung
LOCATION: 9100 Crockett Rd  Brentwood TN 37027
GEO:35.9784239;-86.7697206
END:VEVENT
END:VCALENDAR