BEGIN:VCALENDAR
VERSION:2.0
PRODID:-//Tukios.com/
BEGIN:VEVENT
UID:9c6b0ecc-a44d-493e-bd6f-e7676636a8bb@www.williamsonmemorial.com
DTSTAMP:20260425T215424Z
DTSTART:20260504T210000Z
DTEND:20260504T220000Z
SUMMARY:Celebration of Life
DESCRIPTION:
URL:https://www.williamsonmemorial.com/obituaries/clifford-cliff-downs-iii
LOCATION: 7777 Concord Rd  Brentwood TN 37027
GEO:35.9964941;-86.8037916
END:VEVENT
END:VCALENDAR