BEGIN:VCALENDAR
VERSION:2.0
PRODID:-//Tukios.com/
BEGIN:VEVENT
UID:ee4ec3bc-6ca3-40b0-829e-dd93cdc56430@www.williamsonmemorial.com
DTSTAMP:20260425T215413Z
DTSTART:20260504T200000Z
DTEND:20260504T210000Z
SUMMARY:Visitation
DESCRIPTION:
URL:https://www.williamsonmemorial.com/obituaries/clifford-cliff-downs-iii
LOCATION: 7777 Concord Rd  Brentwood TN 37027
GEO:35.9964941;-86.8037916
END:VEVENT
END:VCALENDAR