BEGIN:VCALENDAR
VERSION:2.0
PRODID:-//Tukios.com/
BEGIN:VEVENT
UID:0fc819ea-1756-4a06-ba9b-cac9561a8147@www.williamsonmemorial.com
DTSTAMP:20260419T202234Z
DTSTART:20260426T190000Z
DTEND:20260426T220000Z
SUMMARY:Receiving of Friends
DESCRIPTION:
URL:https://www.williamsonmemorial.com/obituaries/gregory-akin
LOCATION: 3009 Columbia Avenue  Franklin TN 37064
GEO:35.8923935;-86.876172
END:VEVENT
END:VCALENDAR