BEGIN:VCALENDAR
VERSION:2.0
PRODID:-//Tukios.com/
BEGIN:VEVENT
UID:6cc27907-2e74-4e2a-a7e7-8bb39072513e@www.williamsonmemorial.com
DTSTAMP:20260419T215607Z
DTSTART:20260423T213000Z
DTEND:20260424T003000Z
SUMMARY:Memorial Gathering
DESCRIPTION:
URL:https://www.williamsonmemorial.com/obituaries/jim-atkins-jr
LOCATION: 3009 Columbia Avenue  Franklin TN 37064
GEO:35.8923935;-86.876172
END:VEVENT
END:VCALENDAR