BEGIN:VCALENDAR
VERSION:2.0
PRODID:-//Tukios.com/
BEGIN:VEVENT
UID:6f8d9f0a-1fac-4110-8832-f8142d170751@www.williamsonmemorial.com
DTSTAMP:20260422T223220Z
DTSTART:20260428T163000Z
DTEND:20260428T173000Z
SUMMARY:Visitation
DESCRIPTION:
URL:https://www.williamsonmemorial.com/obituaries/joel-warren
LOCATION: 3009 Columbia Avenue  Franklin TN 37064
GEO:35.8923935;-86.876172
END:VEVENT
END:VCALENDAR