BEGIN:VCALENDAR
VERSION:2.0
PRODID:-//Tukios.com/
BEGIN:VEVENT
UID:5dd77828-7e55-4b18-b86a-dace6f6e383f@www.williamsonmemorial.com
DTSTAMP:20260422T223759Z
DTSTART:20260428T173000Z
DTEND:20260428T183000Z
SUMMARY:Funeral Service
DESCRIPTION:
URL:https://www.williamsonmemorial.com/obituaries/joel-warren
LOCATION: 3009 Columbia Avenue  Franklin TN 37064
GEO:35.8923935;-86.876172
END:VEVENT
END:VCALENDAR