BEGIN:VCALENDAR
VERSION:2.0
PRODID:-//Tukios.com/
BEGIN:VEVENT
UID:b946fb9f-14fd-4a6e-a714-332d59a2b20f@www.williamsonmemorial.com
DTSTAMP:20260422T223642Z
DTSTART:20260428T181500Z
DTEND:20260428T191500Z
SUMMARY:Burial
DESCRIPTION:
URL:https://www.williamsonmemorial.com/obituaries/joel-warren
LOCATION: 3009 Columbia Avenue  Franklin TN 37064
GEO:35.8923935;-86.876172
END:VEVENT
END:VCALENDAR