BEGIN:VCALENDAR
VERSION:2.0
PRODID:-//Tukios.com/
BEGIN:VEVENT
UID:69700c81-66e6-46e8-8f1b-6b3080974aee@www.williamsonmemorial.com
DTSTAMP:20260422T183038Z
DTSTART:20260502T170000Z
DTEND:20260502T190000Z
SUMMARY:Visitation
DESCRIPTION:
URL:https://www.williamsonmemorial.com/obituaries/laura-keeter
LOCATION: 3009 Columbia Avenue  Franklin TN 37064
GEO:35.8923935;-86.876172
END:VEVENT
END:VCALENDAR