BEGIN:VCALENDAR
VERSION:2.0
PRODID:-//Tukios.com/
BEGIN:VEVENT
UID:7ae6fc02-fb6f-420a-9c01-edfa33832104@www.williamsonmemorial.com
DTSTAMP:20260422T183119Z
DTSTART:20260502T190000Z
DTEND:20260502T200000Z
SUMMARY:Celebration of Life
DESCRIPTION:
URL:https://www.williamsonmemorial.com/obituaries/laura-keeter
LOCATION: 3009 Columbia Avenue  Franklin TN 37064
GEO:35.8923935;-86.876172
END:VEVENT
END:VCALENDAR